Workbook
Name TotalMonthlyExpenses: SUM(#REF!)
Name TotalMonthlyIncome: SUM(#REF!)

Sheet Specilaist 
A2: PROJECT ID: JACKSON MEMORIAL HOSPITAL ED EXPANSION AND RENOVATION | J2: CLIENT'S INFORMATION:
A3: ADDRESS: 1611 NW 12TH AVE. MIAMI, FL 33136 | J3: CONTACT:
J4: E-MAIL ADDRESS:
A5: SCOPE: Specialties | J5: PHONE NUMBER:
J6: Date: | K6: =TODAY() -> 46151
A7: ITEM # | B7: DESCRIPTION | C7: QUANTITY | D7: WASTAGE | E7: QTY W/WASTAGE | F7: UNIT | G7: MAT COST | H7: TOTAL MAT COST | I7: NO. OF LABORS | J7: TYPE OF LABOR | K7: PER HOUR LABOR WAGE | L7: LABOR FACTOR | M7: TOTAL LABOR HOURS | N7: TOTAL LABOR COST | O7: UNIT COST | P7: TOTAL COST | Q7: TRADE COST
B8: GENERAL REQUIREMENTS
A9: 1 | B9: Bid Includes one (1) full time Safety Manager on site for the duration of this Subcontractor’s work per Skanska Exhibit A | C9: 1 | D9: 0 | E9: =(1+D9)*C9 -> 1 | F9: LS | G9: 0 | H9: =G9*E9 -> 0 | I9: 1 | J9: CARP | K9: 65 | L9: 0 | M9: =L9*E9 -> 0 | N9: =M9*K9 -> 0 | O9: =(H9+N9)/E9 -> 0 | P9: =O9*E9 -> 0
A10: =IF(C10=0,"",1+MAX(A$9:A9)) -> 2 | B10: Field Superintendent | C10: 1 | D10: 0 | E10: =(1+D10)*C10 -> 1 | F10: LS | G10: 0 | H10: =G10*E10 -> 0 | I10: 1 | J10: CARP | K10: 65 | L10: 0 | M10: =L10*E10 -> 0 | N10: =M10*K10 -> 0 | O10: =(H10+N10)/E10 -> 0 | P10: =O10*E10 -> 0
A11: =IF(C11=0,"",1+MAX(A$9:A10)) -> 3 | B11: Bonds | C11: 1 | D11: 0 | E11: =(1+D11)*C11 -> 1 | F11: LS | G11: 0 | H11: =G11*E11 -> 0 | I11: 1 | J11: CARP | K11: 65 | L11: 0 | M11: =L11*E11 -> 0 | N11: =M11*K11 -> 0 | O11: =(H11+N11)/E11 -> 0 | P11: =O11*E11 -> 0
A12: =IF(C12=0,"",1+MAX(A$9:A11)) -> 4 | B12: Permitting | C12: 1 | D12: 0 | E12: =(1+D12)*C12 -> 1 | F12: LS | G12: 0 | H12: =G12*E12 -> 0 | I12: 1 | J12: CARP | K12: 65 | L12: 0 | M12: =L12*E12 -> 0 | N12: =M12*K12 -> 0 | O12: =(H12+N12)/E12 -> 0 | P12: =O12*E12 -> 0
A13: =IF(C13=0,"",1+MAX(A$9:A12)) -> 5 | B13: Mobilization Cost | C13: 1 | D13: 0 | E13: =(1+D13)*C13 -> 1 | F13: LS | G13: 0 | H13: =G13*E13 -> 0 | I13: 1 | J13: CARP | K13: 65 | L13: 0 | M13: =L13*E13 -> 0 | N13: =M13*K13 -> 0 | O13: =(H13+N13)/E13 -> 0 | P13: =O13*E13 -> 0
A14: =IF(C14=0,"",1+MAX(A$9:A13)) -> 6 | B14: Temp Fencing, Toilets, Utilities | C14: 1 | D14: 0 | E14: =(1+D14)*C14 -> 1 | F14: LS | G14: 0 | H14: =G14*E14 -> 0 | I14: 1 | J14: CARP | K14: 65 | L14: 0 | M14: =L14*E14 -> 0 | N14: =M14*K14 -> 0 | O14: =(H14+N14)/E14 -> 0 | P14: =O14*E14 -> 0
A15: =IF(C15=0,"",1+MAX(A$9:A14)) -> 7 | B15: Jobsite Signage, Trailer, Security | C15: 1 | D15: 0 | E15: =(1+D15)*C15 -> 1 | F15: LS | G15: 0 | H15: =G15*E15 -> 0 | I15: 1 | J15: CARP | K15: 65 | L15: 0 | M15: =L15*E15 -> 0 | N15: =M15*K15 -> 0 | O15: =(H15+N15)/E15 -> 0 | P15: =O15*E15 -> 0
A16: =IF(C16=0,"",1+MAX(A$9:A15)) -> 8 | B16: Dumpsters, Tools | C16: 1 | D16: 0 | E16: =(1+D16)*C16 -> 1 | F16: LS | G16: 0 | H16: =G16*E16 -> 0 | I16: 1 | J16: CARP | K16: 65 | L16: 0 | M16: =L16*E16 -> 0 | N16: =M16*K16 -> 0 | O16: =(H16+N16)/E16 -> 0 | P16: =O16*E16 -> 0
A17: =IF(C17=0,"",1+MAX(A$9:A16)) -> 9 | B17: Clean-up | C17: 1 | D17: 0 | E17: =(1+D17)*C17 -> 1 | F17: LS | G17: 0 | H17: =G17*E17 -> 0 | I17: 1 | J17: CARP | K17: 65 | L17: 0 | M17: =L17*E17 -> 0 | N17: =M17*K17 -> 0 | O17: =(H17+N17)/E17 -> 0 | P17: =O17*E17 -> 0
A18: =IF(C18=0,"",1+MAX(A$9:A17)) -> 10 | B18: Procore, Web Cameras | C18: 1 | D18: 0 | E18: =(1+D18)*C18 -> 1 | F18: LS | G18: 0 | H18: =G18*E18 -> 0 | I18: 1 | J18: CARP | K18: 65 | L18: 0 | M18: =L18*E18 -> 0 | N18: =M18*K18 -> 0 | O18: =(H18+N18)/E18 -> 0 | P18: =O18*E18 -> 0
A19: =IF(C19=0,"",1+MAX(A$9:A18)) | B19: Subtotal (General Requirements) | F19: TOTAL MAT COST: | H19: =SUM(H9:H18) -> 0 | M19: LABOR COST | N19: =SUM(N9:N18) -> 0 | Q19: =(SUM(P9:P19)) -> 0
B21: DIVISION 10- SPECIALIST
A22: =IF(C22=0,"",1+MAX(A$9:A21)) | B22: Specialities
B23: First Floor
A24: =IF(C24=0,"",1+MAX(A$9:A22)) -> 11 | B24: (A5) Paper Towel Dispenser | C24: 376 | D24: 0 | E24: =(1+D24)*C24 -> 376 | F24: EA | G24: 76 | H24: =G24*E24 -> 28576 | I24: 1 | J24: Clab | K24: 50 | L24: 0.5 | M24: =L24*E24 -> 188 | N24: =M24*K24 -> 9400 | O24: =(H24+N24)/E24 -> 101 | P24: =O24*E24 -> 37976
A25: =IF(C25=0,"",1+MAX(A$9:A24)) -> 12 | B25: (A6) Paper Towel Dispenser | C25: 3 | D25: 0 | E25: =(1+D25)*C25 -> 3 | F25: EA | G25: 65 | H25: =G25*E25 -> 195 | I25: 1 | J25: Clab | K25: 50 | L25: 0.5 | M25: =L25*E25 -> 1.5 | N25: =M25*K25 -> 75 | O25: =(H25+N25)/E25 -> 90 | P25: =O25*E25 -> 270
A26: =IF(C26=0,"",1+MAX(A$9:A25)) -> 13 | B26: (B11) Toilet Tissue Holder | C26: 3 | D26: 0 | E26: =(1+D26)*C26 -> 3 | F26: EA | G26: 68 | H26: =G26*E26 -> 204 | I26: 1 | J26: Clab | K26: 50 | L26: 0.5 | M26: =L26*E26 -> 1.5 | N26: =M26*K26 -> 75 | O26: =(H26+N26)/E26 -> 93 | P26: =O26*E26 -> 279
A27: =IF(C27=0,"",1+MAX(A$9:A26)) -> 14 | B27: (B6) Toilet Tissue Dispenser | C27: 134 | D27: 0 | E27: =(1+D27)*C27 -> 134 | F27: EA | G27: 79 | H27: =G27*E27 -> 10586 | I27: 1 | J27: Clab | K27: 50 | L27: 0.5 | M27: =L27*E27 -> 67 | N27: =M27*K27 -> 3350 | O27: =(H27+N27)/E27 -> 104 | P27: =O27*E27 -> 13936
A28: =IF(C28=0,"",1+MAX(A$9:A27)) -> 15 | B28: (J4) Soap Dispenser | C28: 377 | D28: 0 | E28: =(1+D28)*C28 -> 377 | F28: EA | G28: 74 | H28: =G28*E28 -> 27898 | I28: 1 | J28: Clab | K28: 50 | L28: 0.5 | M28: =L28*E28 -> 188.5 | N28: =M28*K28 -> 9425 | O28: =(H28+N28)/E28 -> 99 | P28: =O28*E28 -> 37323
A29: =IF(C29=0,"",1+MAX(A$9:A28)) -> 16 | B29: (J5) Soap Dispenser | C29: 3 | D29: 0 | E29: =(1+D29)*C29 -> 3 | F29: EA | G29: 74 | H29: =G29*E29 -> 222 | I29: 1 | J29: Clab | K29: 50 | L29: 0.5 | M29: =L29*E29 -> 1.5 | N29: =M29*K29 -> 75 | O29: =(H29+N29)/E29 -> 99 | P29: =O29*E29 -> 297
A30: =IF(C30=0,"",1+MAX(A$9:A29)) -> 17 | B30: Tag: TA-9 _x000D_ Description: 2'-2" X 3'-0" Tilt Mirror With SS Frame _x000D_ Manufacture: Bobrick _x000D_ Model: B-293-2436 | C30: 1 | D30: 0 | E30: =(1+D30)*C30 -> 1 | F30: EA | G30: 300 | H30: =G30*E30 -> 300 | I30: 1 | J30: Clab | K30: 50 | L30: 1.3 | M30: =L30*E30 -> 1.3 | N30: =M30*K30 -> 65 | O30: =(H30+N30)/E30 -> 365 | P30: =O30*E30 -> 365
A31: =IF(C31=0,"",1+MAX(A$9:A30)) -> 18 | B31: Tag: TA-8 _x000D_ Description: Coat Hook _x000D_ Manufacture: Bobrick _x000D_ Model: B-542 | C31: 1 | D31: 0 | E31: =(1+D31)*C31 -> 1 | F31: EA | G31: 16 | H31: =G31*E31 -> 16 | I31: 1 | J31: Clab | K31: 50 | L31: 0.23 | M31: =L31*E31 -> 0.23 | N31: =M31*K31 -> 11.5 | O31: =(H31+N31)/E31 -> 27.5 | P31: =O31*E31 -> 27.5
A32: =IF(C32=0,"",1+MAX(A$9:A31)) -> 19 | B32: Tag: TA-6 _x000D_ Description: Semi-Recessed Paper Towel Dispenser / Waste Receptacle _x000D_ Manufacture: Bobrick _x000D_ Model: B-3942 | C32: 5 | D32: 0 | E32: =(1+D32)*C32 -> 5 | F32: EA | G32: 145 | H32: =G32*E32 -> 725 | I32: 1 | J32: Clab | K32: 50 | L32: 0.5 | M32: =L32*E32 -> 2.5 | N32: =M32*K32 -> 125 | O32: =(H32+N32)/E32 -> 170 | P32: =O32*E32 -> 850
A33: =IF(C33=0,"",1+MAX(A$9:A32)) -> 20 | B33: Tag: TA-5 _x000D_ Description: Call-For-Assistance Kit _x000D_ Manufacture: Edwards Signals _x000D_ Model: 7008B-N5 | C33: 1 | D33: 0 | E33: =(1+D33)*C33 -> 1 | F33: EA | G33: 65 | H33: =G33*E33 -> 65 | I33: 1 | J33: Clab | K33: 50 | L33: 0.5 | M33: =L33*E33 -> 0.5 | N33: =M33*K33 -> 25 | O33: =(H33+N33)/E33 -> 90 | P33: =O33*E33 -> 90
A34: =IF(C34=0,"",1+MAX(A$9:A33)) -> 21 | B34: Tag: TA-4 _x000D_ Description: Toilet Tissue Dispenser & Waste _x000D_ Manufacture: Bobrick _x000D_ Model: B-3091 | C34: 2 | D34: 0 | E34: =(1+D34)*C34 -> 2 | F34: EA | G34: 95 | H34: =G34*E34 -> 190 | I34: 1 | J34: Clab | K34: 50 | L34: 0.5 | M34: =L34*E34 -> 1 | N34: =M34*K34 -> 50 | O34: =(H34+N34)/E34 -> 120 | P34: =O34*E34 -> 240
A35: =IF(C35=0,"",1+MAX(A$9:A34)) -> 22 | B35: Tag: TA-4 _x000D_ Description: Recessed Toilet Seat Cover _x000D_ Manufacture: Bobrick _x000D_ Model: B-3091 | C35: 1 | D35: 0 | E35: =(1+D35)*C35 -> 1 | F35: EA | G35: 109 | H35: =G35*E35 -> 109 | I35: 1 | J35: Clab | K35: 50 | L35: 0.5 | M35: =L35*E35 -> 0.5 | N35: =M35*K35 -> 25 | O35: =(H35+N35)/E35 -> 134 | P35: =O35*E35 -> 134
A36: =IF(C36=0,"",1+MAX(A$9:A35)) -> 23 | B36: Tag: TA-3 _x000D_ Description: Toilet Tissue Dispenser _x000D_ Manufacture: Bobrick _x000D_ Model: B-357 | C36: 7 | D36: 0 | E36: =(1+D36)*C36 -> 7 | F36: EA | G36: 65 | H36: =G36*E36 -> 455 | I36: 1 | J36: Clab | K36: 50 | L36: 0.5 | M36: =L36*E36 -> 3.5 | N36: =M36*K36 -> 175 | O36: =(H36+N36)/E36 -> 90 | P36: =O36*E36 -> 630
... A38: =IF(C38=0,"",1+MAX(A$9:A37)) -> 25 | B38: Tag: TA-3 _x000D_ Description: Partition Mounted Seat Cover _x000D_ Manufacture: Bobrick _x000D_ Model: B-357 | C38: 5 | D38: 0 | E38: =(1+D38)*C38 -> 5 | F38: EA | G38: 109 | H38: =G38*E38 -> 545 | I38: 1 | J38: Clab | K38: 50 | L38: 0.5 | M38: =L38*E38 -> 2.5 | N38: =M38*K38 -> 125 | O38: =(H38+N38)/E38 -> 134 | P38: =O38*E38 -> 670
A40: PROJECT ID: JACKSON MEMORIAL HOSPITAL ED EXPANSION AND RENOVATION | J40: CLIENT'S INFORMATION:
A41: ADDRESS: 1611 NW 12TH AVE. MIAMI, FL 33136 | J41: CONTACT:
J42: E-MAIL ADDRESS:
A43: SCOPE: Specialties | J43: PHONE NUMBER:
J44: Date: | K44: =TODAY() -> 46151
...

Sheet SUMMARY DETAILS
C1: JACKSON MEMORIAL HOSPITAL ED EXPANSION AND RENOVATION
A2: ='Specilaist '!A2 -> PROJECT ID: JACKSON MEMORIAL HOSPITAL ED EXPANSION AND RENOVATION
A3: ='Specilaist '!A5 -> SCOPE: Specialties
A4: AREA SUMMARY:
A5: BUILDING GSF | B5: 179675
A6: No. of Floors: | B6: 2
A7: Date: | B7: =TODAY() -> 46151
A8: SUMMARY | B8: AMOUNT
A9: TOTAL PROJECT COST | B9: =E14 -> 161752.7
A10: TOTAL PROPOSED BID | B10: =E21 -> 210278.51
A11: DIVISION NO. | B11: DESCRIPTION | C11: TOTAL MAT COST | D11: TOTAL LABOR COST | E11: TOTAL COST | F11: COST/ SF
A12: Division 1 | B12: General Requirements | C12: ='Specilaist '!H19 -> 0 | D12: ='Specilaist '!N19 -> 0 | E12: ='Specilaist '!Q19 -> 0 | F12: =E12/$B$5 -> 0
A13: Division 10 | B13: Specialist | C13: ='Specilaist '!H172 -> 125531.2 | D13: ='Specilaist '!N172 -> 36221.5 | E13: ='Specilaist '!Q172 -> 161752.7 | F13: =E13/$B$5 -> 0.90025157
A14: TOTAL TRADE COST | C14: =SUM(C12:C13) -> 125531.2 | D14: =SUM(D12:D13) -> 36221.5 | E14: =SUM(E12:E13) -> 161752.7 | F14: =SUM(E14/$B$5) -> 0.90025157
A16: TOTAL TRADE COST | C16: =SUM(C14:C15) -> 125531.2 | D16: =SUM(D14:D15) -> 36221.5 | E16: =SUM(E14:E15) -> 161752.7 | F16: =SUM(E16/$B$5) -> 0.90025157
A17: SUBTOTAL | E17: =E16 -> 161752.7
A18: OVERHEADS & PROFITS | C18: 0.2 | E18: =C18*E16 -> 32350.54
A19: INSURANCES | C19: 0.03 | E19: =C19*E16 -> 4852.581
A20: CONTIGENCY | C20: 0.07 | E20: =C20*E16 -> 11322.689
A21: TOTAL BASE BID | E21: =SUM(E17:E20) -> 210278.51
A22: 1. This estimate is based on real market prices that are regularly updated by our team persons through market surveys and online resources, we still encourage our clients to put their own.
A23: 2. This sheet is your property and we encourage you to fine tune the wastage and pricing values to your preference.
A24: 3. Feel free to contact us for any queries or suggestions.
